Package: healthyFlowData Version: 1.48.0 Command: /home/biocbuild/bbs-3.22-bioc/R/bin/R CMD INSTALL healthyFlowData StartedAt: 2025-11-18 10:57:08 -0500 (Tue, 18 Nov 2025) EndedAt: 2025-11-18 10:57:12 -0500 (Tue, 18 Nov 2025) EllapsedTime: 4.1 seconds RetCode: 0 Status: OK