Package: healthyFlowData Version: 1.48.0 Command: /home/biocbuild/bbs-3.22-bioc/R/bin/R CMD build --keep-empty-dirs --no-resave-data healthyFlowData StartedAt: 2025-11-18 11:36:17 -0500 (Tue, 18 Nov 2025) EndedAt: 2025-11-18 11:36:27 -0500 (Tue, 18 Nov 2025) EllapsedTime: 9.6 seconds RetCode: 0 Status: OK PackageFile: healthyFlowData_1.48.0.tar.gz PackageFileSize: 10.89 MiB