Package: hapmap500knsp Version: 1.48.0 Command: /home/biocbuild/bbs-3.20-bioc/R/bin/R CMD INSTALL hapmap500knsp StartedAt: 2025-01-30 10:55:39 -0500 (Thu, 30 Jan 2025) EndedAt: 2025-01-30 10:55:47 -0500 (Thu, 30 Jan 2025) EllapsedTime: 7.8 seconds RetCode: 0 Status: OK