Package: hapmap500knsp Version: 1.48.0 Command: /home/biocbuild/bbs-3.20-bioc/R/bin/R CMD check --install=check:hapmap500knsp.install-out.txt --library=/home/biocbuild/bbs-3.20-bioc/R/site-library --timings hapmap500knsp_1.48.0.tar.gz StartedAt: 2025-01-30 12:08:28 -0500 (Thu, 30 Jan 2025) EndedAt: 2025-01-30 12:08:47 -0500 (Thu, 30 Jan 2025) EllapsedTime: 18.9 seconds RetCode: 0 Status: OK CheckDir: hapmap500knsp.Rcheck Warnings: 0