Package: hapmap500knsp Version: 1.48.0 Command: /home/biocbuild/bbs-3.20-bioc/R/bin/R CMD build --keep-empty-dirs --no-resave-data hapmap500knsp StartedAt: 2025-02-06 11:18:50 -0500 (Thu, 06 Feb 2025) EndedAt: 2025-02-06 11:21:31 -0500 (Thu, 06 Feb 2025) EllapsedTime: 161.0 seconds RetCode: 0 Status: OK PackageFile: hapmap500knsp_1.48.0.tar.gz PackageFileSize: 80.39 MiB