Package: hapmap100khind Version: 1.48.0 Command: /home/biocbuild/bbs-3.20-bioc/R/bin/R CMD INSTALL hapmap100khind StartedAt: 2025-02-06 10:55:45 -0500 (Thu, 06 Feb 2025) EndedAt: 2025-02-06 10:55:48 -0500 (Thu, 06 Feb 2025) EllapsedTime: 2.9 seconds RetCode: 0 Status: OK