Package: h5vcData Version: 2.26.0 Command: /home/biocbuild/bbs-3.20-bioc/R/bin/R CMD check --install=check:h5vcData.install-out.txt --library=/home/biocbuild/bbs-3.20-bioc/R/site-library --timings h5vcData_2.26.0.tar.gz StartedAt: 2025-02-06 12:06:38 -0500 (Thu, 06 Feb 2025) EndedAt: 2025-02-06 12:06:51 -0500 (Thu, 06 Feb 2025) EllapsedTime: 13.0 seconds RetCode: 0 Status: OK CheckDir: h5vcData.Rcheck Warnings: 0