Package: gpaExample Version: 1.18.0 Command: /home/biocbuild/bbs-3.20-bioc/R/bin/R CMD check --install=check:gpaExample.install-out.txt --library=/home/biocbuild/bbs-3.20-bioc/R/site-library --timings gpaExample_1.18.0.tar.gz StartedAt: 2025-02-13 12:06:30 -0500 (Thu, 13 Feb 2025) EndedAt: 2025-02-13 12:06:44 -0500 (Thu, 13 Feb 2025) EllapsedTime: 14.3 seconds RetCode: 0 Status: OK CheckDir: gpaExample.Rcheck Warnings: 0