Package: gpaExample Version: 1.18.0 Command: /home/biocbuild/bbs-3.20-bioc/R/bin/R CMD build --keep-empty-dirs --no-resave-data gpaExample StartedAt: 2025-02-13 11:18:05 -0500 (Thu, 13 Feb 2025) EndedAt: 2025-02-13 11:18:06 -0500 (Thu, 13 Feb 2025) EllapsedTime: 1.3 seconds RetCode: 0 Status: OK PackageFile: gpaExample_1.18.0.tar.gz PackageFileSize: 11.52 MiB