Package: golubEsets Version: 1.52.0 Command: /home/biocbuild/bbs-3.22-bioc/R/bin/R CMD build --keep-empty-dirs --no-resave-data golubEsets StartedAt: 2025-11-20 11:23:10 -0500 (Thu, 20 Nov 2025) EndedAt: 2025-11-20 11:23:12 -0500 (Thu, 20 Nov 2025) EllapsedTime: 2.0 seconds RetCode: 0 Status: OK PackageFile: golubEsets_1.52.0.tar.gz PackageFileSize: 4.302 MiB