Package: gageData Version: 2.46.0 Command: /home/biocbuild/bbs-3.21-bioc/R/bin/R CMD build --keep-empty-dirs --no-resave-data gageData StartedAt: 2025-10-16 11:18:05 -0400 (Thu, 16 Oct 2025) EndedAt: 2025-10-16 11:18:09 -0400 (Thu, 16 Oct 2025) EllapsedTime: 4.3 seconds RetCode: 0 Status: OK PackageFile: gageData_2.46.0.tar.gz PackageFileSize: 10.59 MiB