Package: gDNAinRNAseqData Version: 1.6.0 Command: /home/biocbuild/bbs-3.20-bioc/R/bin/R CMD INSTALL gDNAinRNAseqData StartedAt: 2025-02-13 11:04:04 -0500 (Thu, 13 Feb 2025) EndedAt: 2025-02-13 11:04:19 -0500 (Thu, 13 Feb 2025) EllapsedTime: 15.9 seconds RetCode: 0 Status: OK