Package: gDNAinRNAseqData Version: 1.6.0 Command: /home/biocbuild/bbs-3.20-bioc/R/bin/R CMD check --install=check:gDNAinRNAseqData.install-out.txt --library=/home/biocbuild/bbs-3.20-bioc/R/site-library --timings gDNAinRNAseqData_1.6.0.tar.gz StartedAt: 2025-02-13 12:05:48 -0500 (Thu, 13 Feb 2025) EndedAt: 2025-02-13 12:08:27 -0500 (Thu, 13 Feb 2025) EllapsedTime: 159.2 seconds RetCode: 0 Status: OK CheckDir: gDNAinRNAseqData.Rcheck Warnings: 0