Package: furrowSeg Version: 1.34.0 Command: /home/biocbuild/bbs-3.20-bioc/R/bin/R CMD build --keep-empty-dirs --no-resave-data furrowSeg StartedAt: 2025-02-06 11:17:33 -0500 (Thu, 06 Feb 2025) EndedAt: 2025-02-06 11:22:39 -0500 (Thu, 06 Feb 2025) EllapsedTime: 305.2 seconds RetCode: 0 Status: OK PackageFile: furrowSeg_1.34.0.tar.gz PackageFileSize: 349.3 MiB