Package: furrowSeg Version: 1.36.0 Command: /home/biocbuild/bbs-3.21-bioc/R/bin/R CMD build --keep-empty-dirs --no-resave-data furrowSeg StartedAt: 2025-10-09 11:17:57 -0400 (Thu, 09 Oct 2025) EndedAt: 2025-10-09 11:22:55 -0400 (Thu, 09 Oct 2025) EllapsedTime: 298.0 seconds RetCode: 0 Status: OK PackageFile: furrowSeg_1.36.0.tar.gz PackageFileSize: 349.3 MiB