Package: fourDNData Version: 1.6.0 Command: /home/biocbuild/bbs-3.20-bioc/R/bin/R CMD check --install=check:fourDNData.install-out.txt --library=/home/biocbuild/bbs-3.20-bioc/R/site-library --timings fourDNData_1.6.0.tar.gz StartedAt: 2025-02-13 12:04:26 -0500 (Thu, 13 Feb 2025) EndedAt: 2025-02-13 12:06:30 -0500 (Thu, 13 Feb 2025) EllapsedTime: 123.3 seconds RetCode: 0 Status: OK CheckDir: fourDNData.Rcheck Warnings: 0