Package: fourDNData Version: 1.8.0 Command: /home/biocbuild/bbs-3.21-bioc/R/bin/R CMD INSTALL fourDNData StartedAt: 2025-10-02 10:59:52 -0400 (Thu, 02 Oct 2025) EndedAt: 2025-10-02 11:00:04 -0400 (Thu, 02 Oct 2025) EllapsedTime: 11.4 seconds RetCode: 0 Status: OK