Package: flowWorkspaceData Version: 3.20.0 Command: /home/biocbuild/bbs-3.21-bioc/R/bin/R CMD check --install=check:flowWorkspaceData.install-out.txt --library=/home/biocbuild/bbs-3.21-bioc/R/site-library --timings flowWorkspaceData_3.20.0.tar.gz StartedAt: 2025-10-16 12:18:27 -0400 (Thu, 16 Oct 2025) EndedAt: 2025-10-16 12:18:42 -0400 (Thu, 16 Oct 2025) EllapsedTime: 15.3 seconds RetCode: 0 Status: OK CheckDir: flowWorkspaceData.Rcheck Warnings: 0