Package: flowPloidyData Version: 1.32.0 Command: /home/biocbuild/bbs-3.20-bioc/R/bin/R CMD check --install=check:flowPloidyData.install-out.txt --library=/home/biocbuild/bbs-3.20-bioc/R/site-library --timings flowPloidyData_1.32.0.tar.gz StartedAt: 2025-02-06 12:02:15 -0500 (Thu, 06 Feb 2025) EndedAt: 2025-02-06 12:02:30 -0500 (Thu, 06 Feb 2025) EllapsedTime: 15.6 seconds RetCode: 0 Status: OK CheckDir: flowPloidyData.Rcheck Warnings: 0