Package: flowPloidyData Version: 1.34.0 Command: /home/biocbuild/bbs-3.21-bioc/R/bin/R CMD INSTALL flowPloidyData StartedAt: 2025-10-02 10:55:13 -0400 (Thu, 02 Oct 2025) EndedAt: 2025-10-02 10:55:15 -0400 (Thu, 02 Oct 2025) EllapsedTime: 2.5 seconds RetCode: 0 Status: OK