Package: fission Version: 1.26.0 Command: /home/biocbuild/bbs-3.20-bioc/R/bin/R CMD check --install=check:fission.install-out.txt --library=/home/biocbuild/bbs-3.20-bioc/R/site-library --timings fission_1.26.0.tar.gz StartedAt: 2025-02-06 12:01:56 -0500 (Thu, 06 Feb 2025) EndedAt: 2025-02-06 12:02:50 -0500 (Thu, 06 Feb 2025) EllapsedTime: 54.2 seconds RetCode: 0 Status: OK CheckDir: fission.Rcheck Warnings: 0