Package: fission Version: 1.28.0 Command: /home/biocbuild/bbs-3.21-bioc/R/bin/R CMD INSTALL fission StartedAt: 2025-10-16 10:59:42 -0400 (Thu, 16 Oct 2025) EndedAt: 2025-10-16 10:59:57 -0400 (Thu, 16 Oct 2025) EllapsedTime: 15.0 seconds RetCode: 0 Status: OK