Package: fibroEset Version: 1.48.0 Command: /home/biocbuild/bbs-3.20-bioc/R/bin/R CMD INSTALL fibroEset StartedAt: 2025-02-20 10:56:27 -0500 (Thu, 20 Feb 2025) EndedAt: 2025-02-20 10:56:31 -0500 (Thu, 20 Feb 2025) EllapsedTime: 4.0 seconds RetCode: 0 Status: OK