Package: fibroEset Version: 1.48.0 Command: /home/biocbuild/bbs-3.20-bioc/R/bin/R CMD build --keep-empty-dirs --no-resave-data fibroEset StartedAt: 2025-02-20 11:16:22 -0500 (Thu, 20 Feb 2025) EndedAt: 2025-02-20 11:16:23 -0500 (Thu, 20 Feb 2025) EllapsedTime: 1.0 seconds RetCode: 0 Status: OK PackageFile: fibroEset_1.48.0.tar.gz PackageFileSize: 1.81 MiB