Package: fibroEset Version: 1.50.0 Command: /home/biocbuild/bbs-3.21-bioc/R/bin/R CMD build --keep-empty-dirs --no-resave-data fibroEset StartedAt: 2025-10-16 11:16:03 -0400 (Thu, 16 Oct 2025) EndedAt: 2025-10-16 11:16:05 -0400 (Thu, 16 Oct 2025) EllapsedTime: 2.0 seconds RetCode: 0 Status: OK PackageFile: fibroEset_1.50.0.tar.gz PackageFileSize: 1.81 MiB