Package: ffpeExampleData Version: 1.44.0 Command: /home/biocbuild/bbs-3.20-bioc/R/bin/R CMD build --keep-empty-dirs --no-resave-data ffpeExampleData StartedAt: 2025-02-06 11:15:27 -0500 (Thu, 06 Feb 2025) EndedAt: 2025-02-06 11:15:28 -0500 (Thu, 06 Feb 2025) EllapsedTime: 1.0 seconds RetCode: 0 Status: OK PackageFile: ffpeExampleData_1.44.0.tar.gz PackageFileSize: 6.727 MiB