Package: faahKO Version: 1.46.0 Command: /home/biocbuild/bbs-3.20-bioc/R/bin/R CMD build --keep-empty-dirs --no-resave-data faahKO StartedAt: 2025-01-30 11:15:59 -0500 (Thu, 30 Jan 2025) EndedAt: 2025-01-30 11:16:48 -0500 (Thu, 30 Jan 2025) EllapsedTime: 49.1 seconds RetCode: 0 Status: OK PackageFile: faahKO_1.46.0.tar.gz PackageFileSize: 16.03 MiB