Package: ewceData Version: 1.16.0 Command: /home/biocbuild/bbs-3.21-bioc/R/bin/R CMD build --keep-empty-dirs --no-resave-data ewceData StartedAt: 2025-09-30 11:15:36 -0400 (Tue, 30 Sep 2025) EndedAt: 2025-09-30 11:16:28 -0400 (Tue, 30 Sep 2025) EllapsedTime: 51.6 seconds RetCode: 0 Status: OK PackageFile: ewceData_1.16.0.tar.gz PackageFileSize: 45.18 KiB