Package: etec16s Version: 1.34.0 Command: /home/biocbuild/bbs-3.20-bioc/R/bin/R CMD INSTALL etec16s StartedAt: 2025-02-18 10:56:25 -0500 (Tue, 18 Feb 2025) EndedAt: 2025-02-18 10:56:31 -0500 (Tue, 18 Feb 2025) EllapsedTime: 5.6 seconds RetCode: 0 Status: OK