Package: epimutacionsData Version: 1.10.0 Command: /home/biocbuild/bbs-3.20-bioc/R/bin/R CMD build --keep-empty-dirs --no-resave-data epimutacionsData StartedAt: 2025-02-11 11:15:09 -0500 (Tue, 11 Feb 2025) EndedAt: 2025-02-11 11:15:50 -0500 (Tue, 11 Feb 2025) EllapsedTime: 41.1 seconds RetCode: 0 Status: OK PackageFile: epimutacionsData_1.10.0.tar.gz PackageFileSize: 57.04 MiB