Package: emtdata Version: 1.14.0 Command: /home/biocbuild/bbs-3.20-bioc/R/bin/R CMD build --keep-empty-dirs --no-resave-data emtdata StartedAt: 2025-02-11 11:14:49 -0500 (Tue, 11 Feb 2025) EndedAt: 2025-02-11 11:15:37 -0500 (Tue, 11 Feb 2025) EllapsedTime: 47.9 seconds RetCode: 0 Status: OK PackageFile: emtdata_1.14.0.tar.gz PackageFileSize: 216.9 KiB