Package: ecoliLeucine Version: 1.48.0 Command: /home/biocbuild/bbs-3.21-bioc/R/bin/R CMD build --keep-empty-dirs --no-resave-data ecoliLeucine StartedAt: 2025-10-16 11:14:50 -0400 (Thu, 16 Oct 2025) EndedAt: 2025-10-16 11:14:52 -0400 (Thu, 16 Oct 2025) EllapsedTime: 2.3 seconds RetCode: 0 Status: OK PackageFile: ecoliLeucine_1.48.0.tar.gz PackageFileSize: 5.936 MiB