Package: dyebiasexamples Version: 1.46.0 Command: /home/biocbuild/bbs-3.20-bioc/R/bin/R CMD build --keep-empty-dirs --no-resave-data dyebiasexamples StartedAt: 2025-01-30 11:14:53 -0500 (Thu, 30 Jan 2025) EndedAt: 2025-01-30 11:15:00 -0500 (Thu, 30 Jan 2025) EllapsedTime: 7.0 seconds RetCode: 0 Status: OK PackageFile: dyebiasexamples_1.46.0.tar.gz PackageFileSize: 15.2 MiB