Package: dressCheck Version: 0.44.0 Command: /home/biocbuild/bbs-3.20-bioc/R/bin/R CMD build --keep-empty-dirs --no-resave-data dressCheck StartedAt: 2025-02-11 11:14:09 -0500 (Tue, 11 Feb 2025) EndedAt: 2025-02-11 11:14:33 -0500 (Tue, 11 Feb 2025) EllapsedTime: 23.7 seconds RetCode: 0 Status: OK PackageFile: dressCheck_0.44.0.tar.gz PackageFileSize: 65.75 MiB