Package: dorothea Version: 1.20.0 Command: /home/biocbuild/bbs-3.21-bioc/R/bin/R CMD INSTALL dorothea StartedAt: 2025-10-09 10:56:41 -0400 (Thu, 09 Oct 2025) EndedAt: 2025-10-09 10:57:24 -0400 (Thu, 09 Oct 2025) EllapsedTime: 43.4 seconds RetCode: 0 Status: OK