Package: diffloopdata Version: 1.38.0 Command: /home/biocbuild/bbs-3.22-bioc/R/bin/R CMD build --keep-empty-dirs --no-resave-data diffloopdata StartedAt: 2025-10-30 11:20:43 -0400 (Thu, 30 Oct 2025) EndedAt: 2025-10-30 11:20:56 -0400 (Thu, 30 Oct 2025) EllapsedTime: 13.0 seconds RetCode: 0 Status: OK PackageFile: diffloopdata_1.38.0.tar.gz PackageFileSize: 11.08 MiB