Package: derfinderData Version: 2.24.0 Command: /home/biocbuild/bbs-3.20-bioc/R/bin/R CMD check --install=check:derfinderData.install-out.txt --library=/home/biocbuild/bbs-3.20-bioc/R/site-library --timings derfinderData_2.24.0.tar.gz StartedAt: 2025-02-06 11:54:33 -0500 (Thu, 06 Feb 2025) EndedAt: 2025-02-06 11:54:50 -0500 (Thu, 06 Feb 2025) EllapsedTime: 17.0 seconds RetCode: 0 Status: OK CheckDir: derfinderData.Rcheck Warnings: 0