Package: depmap Version: 1.22.0 Command: /home/biocbuild/bbs-3.21-bioc/R/bin/R CMD INSTALL depmap StartedAt: 2025-10-09 10:57:21 -0400 (Thu, 09 Oct 2025) EndedAt: 2025-10-09 10:57:35 -0400 (Thu, 09 Oct 2025) EllapsedTime: 14.0 seconds RetCode: 0 Status: OK