Package: depmap Version: 1.22.0 Command: /home/biocbuild/bbs-3.21-bioc/R/bin/R CMD build --keep-empty-dirs --no-resave-data depmap StartedAt: 2025-10-09 11:13:24 -0400 (Thu, 09 Oct 2025) EndedAt: 2025-10-09 11:22:21 -0400 (Thu, 09 Oct 2025) EllapsedTime: 536.3 seconds RetCode: 0 Status: OK PackageFile: depmap_1.22.0.tar.gz PackageFileSize: 1.559 MiB