Package: davidTiling Version: 1.46.0 Command: /home/biocbuild/bbs-3.20-bioc/R/bin/R CMD check --install=check:davidTiling.install-out.txt --library=/home/biocbuild/bbs-3.20-bioc/R/site-library --timings davidTiling_1.46.0.tar.gz StartedAt: 2025-02-06 11:53:59 -0500 (Thu, 06 Feb 2025) EndedAt: 2025-02-06 11:58:06 -0500 (Thu, 06 Feb 2025) EllapsedTime: 247.3 seconds RetCode: 0 Status: WARNINGS CheckDir: davidTiling.Rcheck Warnings: 1