Package: davidTiling Version: 1.46.0 Maintainer: Wolfgang Huber MaintainerEmail: huber at ebi.ac.uk git_url: https://git.bioconductor.org/packages/davidTiling git_branch: RELEASE_3_20 git_last_commit: af88acd git_last_commit_date: 2024-10-29 09:25:04 -0500 (Tue, 29 Oct 2024)