Package: curatedTCGAData Version: 1.32.1 Command: /home/biocbuild/bbs-3.22-bioc/R/bin/R CMD INSTALL curatedTCGAData StartedAt: 2025-11-18 11:00:00 -0500 (Tue, 18 Nov 2025) EndedAt: 2025-11-18 11:00:28 -0500 (Tue, 18 Nov 2025) EllapsedTime: 27.6 seconds RetCode: 0 Status: OK