Package: curatedTCGAData Version: 1.32.1 Command: /home/biocbuild/bbs-3.22-bioc/R/bin/R CMD check --install=check:curatedTCGAData.install-out.txt --library=/home/biocbuild/bbs-3.22-bioc/R/site-library --timings curatedTCGAData_1.32.1.tar.gz StartedAt: 2025-11-18 12:40:38 -0500 (Tue, 18 Nov 2025) EndedAt: 2025-11-18 12:45:08 -0500 (Tue, 18 Nov 2025) EllapsedTime: 270.7 seconds RetCode: 0 Status: OK CheckDir: curatedTCGAData.Rcheck Warnings: 0