Package: curatedTCGAData Version: 1.32.1 Command: /home/biocbuild/bbs-3.22-bioc/R/bin/R CMD build --keep-empty-dirs --no-resave-data curatedTCGAData StartedAt: 2025-11-18 11:18:54 -0500 (Tue, 18 Nov 2025) EndedAt: 2025-11-18 11:20:12 -0500 (Tue, 18 Nov 2025) EllapsedTime: 77.9 seconds RetCode: 0 Status: OK PackageFile: curatedTCGAData_1.32.1.tar.gz PackageFileSize: 417.1 KiB