Package: curatedTCGAData Version: 1.30.0 Command: /home/biocbuild/bbs-3.21-bioc/R/bin/R CMD INSTALL curatedTCGAData StartedAt: 2025-10-02 11:00:22 -0400 (Thu, 02 Oct 2025) EndedAt: 2025-10-02 11:00:49 -0400 (Thu, 02 Oct 2025) EllapsedTime: 27.3 seconds RetCode: 0 Status: OK