Package: curatedTBData Version: 2.4.0 Command: /home/biocbuild/bbs-3.21-bioc/R/bin/R CMD INSTALL curatedTBData StartedAt: 2025-10-02 11:00:22 -0400 (Thu, 02 Oct 2025) EndedAt: 2025-10-02 11:00:50 -0400 (Thu, 02 Oct 2025) EllapsedTime: 28.8 seconds RetCode: 0 Status: OK