Package: curatedTBData Version: 2.4.0 Command: /home/biocbuild/bbs-3.21-bioc/R/bin/R CMD build --keep-empty-dirs --no-resave-data curatedTBData StartedAt: 2025-10-02 11:11:51 -0400 (Thu, 02 Oct 2025) EndedAt: 2025-10-02 11:14:29 -0400 (Thu, 02 Oct 2025) EllapsedTime: 158.7 seconds RetCode: 0 Status: OK PackageFile: curatedTBData_2.4.0.tar.gz PackageFileSize: 361.4 KiB