Package: curatedPCaData Version: 1.2.0 Command: /home/biocbuild/bbs-3.20-bioc/R/bin/R CMD INSTALL curatedPCaData StartedAt: 2025-02-11 11:00:21 -0500 (Tue, 11 Feb 2025) EndedAt: 2025-02-11 11:01:05 -0500 (Tue, 11 Feb 2025) EllapsedTime: 44.7 seconds RetCode: 0 Status: OK