Package: curatedOvarianData Version: 1.44.0 Command: /home/biocbuild/bbs-3.20-bioc/R/bin/R CMD build --keep-empty-dirs --no-resave-data curatedOvarianData StartedAt: 2025-02-13 11:10:37 -0500 (Thu, 13 Feb 2025) EndedAt: 2025-02-13 11:12:59 -0500 (Thu, 13 Feb 2025) EllapsedTime: 142.9 seconds RetCode: 0 Status: OK PackageFile: curatedOvarianData_1.44.0.tar.gz PackageFileSize: 381.5 MiB