Package: curatedMetagenomicData Version: 3.14.0 Maintainer: Lucas schiffer MaintainerEmail: schiffer.lucas at gmail.com git_url: https://git.bioconductor.org/packages/curatedMetagenomicData git_branch: RELEASE_3_20 git_last_commit: 80d4eb6 git_last_commit_date: 2024-10-29 09:45:44 -0500 (Tue, 29 Oct 2024)